BEGIN:VCALENDAR
VERSION:2.0
PRODID:-//NISA - ECPv6.15.17.1//NONSGML v1.0//EN
CALSCALE:GREGORIAN
METHOD:PUBLISH
X-ORIGINAL-URL:https://nordicisa.eu
X-WR-CALDESC:Events for NISA
REFRESH-INTERVAL;VALUE=DURATION:PT1H
X-Robots-Tag:noindex
X-PUBLISHED-TTL:PT1H
BEGIN:VTIMEZONE
TZID:Europe/Helsinki
BEGIN:DAYLIGHT
TZOFFSETFROM:+0200
TZOFFSETTO:+0300
TZNAME:EEST
DTSTART:20220327T010000
END:DAYLIGHT
BEGIN:STANDARD
TZOFFSETFROM:+0300
TZOFFSETTO:+0200
TZNAME:EET
DTSTART:20221030T010000
END:STANDARD
BEGIN:DAYLIGHT
TZOFFSETFROM:+0200
TZOFFSETTO:+0300
TZNAME:EEST
DTSTART:20230326T010000
END:DAYLIGHT
BEGIN:STANDARD
TZOFFSETFROM:+0300
TZOFFSETTO:+0200
TZNAME:EET
DTSTART:20231029T010000
END:STANDARD
BEGIN:DAYLIGHT
TZOFFSETFROM:+0200
TZOFFSETTO:+0300
TZNAME:EEST
DTSTART:20240331T010000
END:DAYLIGHT
BEGIN:STANDARD
TZOFFSETFROM:+0300
TZOFFSETTO:+0200
TZNAME:EET
DTSTART:20241027T010000
END:STANDARD
END:VTIMEZONE
BEGIN:VTIMEZONE
TZID:America/Toronto
BEGIN:DAYLIGHT
TZOFFSETFROM:-0500
TZOFFSETTO:-0400
TZNAME:EDT
DTSTART:20220313T070000
END:DAYLIGHT
BEGIN:STANDARD
TZOFFSETFROM:-0400
TZOFFSETTO:-0500
TZNAME:EST
DTSTART:20221106T060000
END:STANDARD
BEGIN:DAYLIGHT
TZOFFSETFROM:-0500
TZOFFSETTO:-0400
TZNAME:EDT
DTSTART:20230312T070000
END:DAYLIGHT
BEGIN:STANDARD
TZOFFSETFROM:-0400
TZOFFSETTO:-0500
TZNAME:EST
DTSTART:20231105T060000
END:STANDARD
BEGIN:DAYLIGHT
TZOFFSETFROM:-0500
TZOFFSETTO:-0400
TZNAME:EDT
DTSTART:20240310T070000
END:DAYLIGHT
BEGIN:STANDARD
TZOFFSETFROM:-0400
TZOFFSETTO:-0500
TZNAME:EST
DTSTART:20241103T060000
END:STANDARD
END:VTIMEZONE
BEGIN:VEVENT
DTSTART;VALUE=DATE:20230315
DTEND;VALUE=DATE:20230319
DTSTAMP:20260421T050208
CREATED:20230429T144646Z
LAST-MODIFIED:20230429T151800Z
UID:436-1678838400-1679183999@nordicisa.eu
SUMMARY:NISA Reception at the 2023 ISA annual conference
DESCRIPTION:The NISA Executive Committee invited the entire Nordic community of IR scholars as well as friends of the Nordics to a (spontaneous) lunch reception during the 2023 ISA annual conference in Montreal. After a short speech by the President\, food and beverages were offered to a large crowd of people. We hope to repeat the success during the next ISA annual conference in San Francisco. Stay put!
URL:https://nordicisa.eu/event/nisa-reception-at-the-2023-isa-annual-conference/
CATEGORIES:Conference,Events
ATTACH;FMTTYPE=image/jpeg:https://nordicisa.eu/wp-content/uploads/2018/03/slider-conference.jpg
END:VEVENT
BEGIN:VEVENT
DTSTART;TZID=America/Toronto:20230317T081500
DTEND;TZID=America/Toronto:20230317T100000
DTSTAMP:20260421T050208
CREATED:20230429T150206Z
LAST-MODIFIED:20230429T151729Z
UID:438-1679040900-1679047200@nordicisa.eu
SUMMARY:NISA panel at the 2023 annual ISA Conference
DESCRIPTION:The panelists discussed foreign policy shifts among Nordic Countries in the wake of Russia’s 2022 Invasion of Ukraine. The panel was chaired by Torunn L. Tryggestad from the Peace Research Institute\, Oslo and the participants were Niklas Bremberg (Stockholm University & Swedish Institute of International Affairs)\, Nina Graeger (University of Copenhagen)\, Tuomas Forsberg (Tampere University)\, and Chiara De Franco (University of Southern Denmark).
URL:https://nordicisa.eu/event/nisa-panel-at-the-2023-annual-isa-conference/
LOCATION:Montreal\, Montréal\, Canada
CATEGORIES:Conference,Events
ATTACH;FMTTYPE=image/jpeg:https://nordicisa.eu/wp-content/uploads/2018/03/slider-conference.jpg
END:VEVENT
END:VCALENDAR