BEGIN:VCALENDAR
VERSION:2.0
PRODID:-//NISA - ECPv6.15.17.1//NONSGML v1.0//EN
CALSCALE:GREGORIAN
METHOD:PUBLISH
X-WR-CALNAME:NISA
X-ORIGINAL-URL:https://nordicisa.eu
X-WR-CALDESC:Events for NISA
REFRESH-INTERVAL;VALUE=DURATION:PT1H
X-Robots-Tag:noindex
X-PUBLISHED-TTL:PT1H
BEGIN:VTIMEZONE
TZID:Europe/Helsinki
BEGIN:DAYLIGHT
TZOFFSETFROM:+0200
TZOFFSETTO:+0300
TZNAME:EEST
DTSTART:20230326T010000
END:DAYLIGHT
BEGIN:STANDARD
TZOFFSETFROM:+0300
TZOFFSETTO:+0200
TZNAME:EET
DTSTART:20231029T010000
END:STANDARD
BEGIN:DAYLIGHT
TZOFFSETFROM:+0200
TZOFFSETTO:+0300
TZNAME:EEST
DTSTART:20240331T010000
END:DAYLIGHT
BEGIN:STANDARD
TZOFFSETFROM:+0300
TZOFFSETTO:+0200
TZNAME:EET
DTSTART:20241027T010000
END:STANDARD
BEGIN:DAYLIGHT
TZOFFSETFROM:+0200
TZOFFSETTO:+0300
TZNAME:EEST
DTSTART:20250330T010000
END:DAYLIGHT
BEGIN:STANDARD
TZOFFSETFROM:+0300
TZOFFSETTO:+0200
TZNAME:EET
DTSTART:20251026T010000
END:STANDARD
END:VTIMEZONE
BEGIN:VEVENT
DTSTART;VALUE=DATE:20240403
DTEND;VALUE=DATE:20240407
DTSTAMP:20260420T073407
CREATED:20240401T133110Z
LAST-MODIFIED:20240401T133146Z
UID:548-1712102400-1712447999@nordicisa.eu
SUMMARY:The International Studies Association (ISA) Annual Conference
DESCRIPTION:The Norwegian and Icelandic members of the executive committee have organized a NISA roundtable on the status and future of the originally Feminist foreign policy agenda at this year’s annual ISA conference: \nFeminist foreign policy: Nordic hegemony in decline?\n\nWA21: Wednesday 8:15 AM – 10:00 AM\nRoom: Golden Gate 5\, Hilton San Francisco Union Square\nChair Inger Skjelsbaek (University of Oslo (UiO) and Peace Research Institute Oslo (PRIO))\nPart. Nina Graeger (University of Copenhagen)\nPart. Silja Bara Omarsdoƫtir (University of Iceland)\nPart. Torunn L. Tryggestad (Peace Research Institute\, Oslo (PRIO))\nPart. Katarzyna Jezierska (University West)\n\nWhile several members of the Executive Committee participate in panels and roundtables during the ISA conference\, one of the Danish members\, Rebecca Adler-Nissen\, receives special attention this year by being celebrated for her scholarship over the years: \nISA-Diplomatic Studies Section (DPLST)\n\nDistinguished Scholar Panel Honoring Rebecca Adler-Nissen\nTD23: Thursday 4:00 PM – 5:45 PM\nRoom: Golden Gate 7\, Hilton San Francisco Union Square
URL:https://nordicisa.eu/event/the-international-studies-association-isa-annual-conference/
LOCATION:Hilton San Francisco Union Square\, 333 O'Farrell St\, San Francisco\, CA\, 94102\, United States
CATEGORIES:Conference
ATTACH;FMTTYPE=image/jpeg:https://nordicisa.eu/wp-content/uploads/2024/04/pexels-luis-quintero-2774556.jpg
END:VEVENT
BEGIN:VEVENT
DTSTART;TZID=Europe/Helsinki:20240405T174500
DTEND;TZID=Europe/Helsinki:20240405T181500
DTSTAMP:20260420T073407
CREATED:20240401T132049Z
LAST-MODIFIED:20240401T132302Z
UID:541-1712339100-1712340900@nordicisa.eu
SUMMARY:NISA Reception and panel discussion at the ISA 2024
DESCRIPTION:Communities of Practice: Reflections on the state of IR in the Nordic Region\nThe Executive Committee of the Nordic International Studies Association (NISA) is pleased to invite you to a reception during the ISA annual conference. To kick off the reception\, we will have a panel discussion with the editors of a fresh off the press special issue of Global Studies Quarterly and the relatively new editors of the NISA journal Cooperation and Conflict. We have asked the editors to reflect together on the practice turn in IR and its particular anchoring in the Nordic region\, before we open the floor for questions and comments from the audience. \nThe panel discussion will be short and sweet\, keeping in mind that the prime intention with the NISA reception is meet over drinks and finger food to exchange views\, to network\, and to have fun. \n  \nProgramme\n\nDate: Friday 5 April\nTime: 17:45-18:15ish (doors open 17:30)\, followed by reception\nVenue: The Porter and Stout Space at Bartlett Hall\, 242 O’Farrell Street San Francisco\, CA 94102\nChair: President of NISA\, Nina Græger\n\nPanelists:\nNiklas Bremberg and Maïka Sondarjee (Special Issue co-editors with Emanuel Adler) – present GSQ special issue and practice agenda contribution of the SI) \nBenjamin de Carvalho and Kristin Haugevik (Editors in Chief of CoCo – present editorial team’s thoughts on this topic and future priorities) \nQ & A (10 min. or as long as people are interested) \nFood\, beverages\, mingling\, fun. \nNo registration is required for this event.
URL:https://nordicisa.eu/event/nisa-reception-and-panel-discussion-at-the-isa-2024/
LOCATION:The Porter and Stout Space at Bartlett Hall\, 242 O'Farrell Street\, San Francisco\, CA\, 94102\, United States
CATEGORIES:Conference
ATTACH;FMTTYPE=image/jpeg:https://nordicisa.eu/wp-content/uploads/2024/04/marcos-luiz-photograph-R6xx6fnvPT8-unsplash-1.jpg
END:VEVENT
END:VCALENDAR