BEGIN:VCALENDAR
VERSION:2.0
PRODID:-//NISA - ECPv6.15.17.1//NONSGML v1.0//EN
CALSCALE:GREGORIAN
METHOD:PUBLISH
X-ORIGINAL-URL:https://nordicisa.eu
X-WR-CALDESC:Events for NISA
REFRESH-INTERVAL;VALUE=DURATION:PT1H
X-Robots-Tag:noindex
X-PUBLISHED-TTL:PT1H
BEGIN:VTIMEZONE
TZID:Europe/Helsinki
BEGIN:DAYLIGHT
TZOFFSETFROM:+0200
TZOFFSETTO:+0300
TZNAME:EEST
DTSTART:20230326T010000
END:DAYLIGHT
BEGIN:STANDARD
TZOFFSETFROM:+0300
TZOFFSETTO:+0200
TZNAME:EET
DTSTART:20231029T010000
END:STANDARD
BEGIN:DAYLIGHT
TZOFFSETFROM:+0200
TZOFFSETTO:+0300
TZNAME:EEST
DTSTART:20240331T010000
END:DAYLIGHT
BEGIN:STANDARD
TZOFFSETFROM:+0300
TZOFFSETTO:+0200
TZNAME:EET
DTSTART:20241027T010000
END:STANDARD
BEGIN:DAYLIGHT
TZOFFSETFROM:+0200
TZOFFSETTO:+0300
TZNAME:EEST
DTSTART:20250330T010000
END:DAYLIGHT
BEGIN:STANDARD
TZOFFSETFROM:+0300
TZOFFSETTO:+0200
TZNAME:EET
DTSTART:20251026T010000
END:STANDARD
END:VTIMEZONE
BEGIN:VEVENT
DTSTART;TZID=Europe/Helsinki:20240913T000000
DTEND;TZID=Europe/Helsinki:20240913T010000
DTSTAMP:20260419T231725
CREATED:20240829T154026Z
LAST-MODIFIED:20240829T154054Z
UID:586-1726185600-1726189200@nordicisa.eu
SUMMARY:Call for Papers and Panels for FISA 2025 Conference extended until 13 September
DESCRIPTION:The Call for Papers and Panels for the 2025 FISA Conference has been extended until 13 September. \nThe eighth triannual conference organized by the The Finnish International Studies Association provides a comprehensive\, timely\, and multidisciplinary overview of the state of International Relations research\, bringing together researchers and actors within the field of international politics. The conference will be held at the historic Scandic Valtionhotelli in Imatra\, on 24-25 January 2025. The conference keynotes will be delivered by professors Sonia Lucarelli (University of Bologna) and Ayşe Zarakol (University of Cambridge). \nThe theme of the 2025 FISA Conference is Borders\, Old and New. Russia’s war of aggression in Ukraine has shown\, in a horrifying manner\, that borders can be contested also in the European continent. It has reminded us that borders are always fluid constructions\, whose legitimacy differs across actors. These developments have led to a heightened political and economic focus on geography\, and thus highlighted the importance of geopolitics and -economics for the stability and prosperity of regions. These issues are acutely important in the Eastern Finnish border region\, where the 2025 FISA Conference is held. The panels in the FISA conference accordingly examine borders\, old and new\, from a variety of theoretical\, analytical and methodological perspectives. \nFISA invites papers and panels for workshop sessions. They can deal with various aspects of International Relations\, including both theoretical and empirical contributions. The papers do not need to be directly related to the overall theme of the conference\, but it is recommended. Topics of interest include\, but are not limited to the ones listed below: \nBorders; Alliances in international politics; The Arctic; Challenges and challengers to the rules-based international order; Environment in international politics; The European Union; Political violence\, extremism and terrorism; Theories of the international; The party politics of foreign and security policy; Foresight in international politics; Nordic cooperation; Language and meaning in international politics; Feminist approaches to world politics; Geoeconomics and the evolving international political economy; The global south in international politics; Strategic competition and great-power politics; International law and International Relations; Foreign policy; Development studies; Peace research; and Strategic studies. \nThe paper and panel proposals can be submitted in English\, Finnish or Swedish. Please use the same form for all three languages. \nThe call for papers and panels is now open until 13 September 2024. \nLINK TO THE FORM FOR FISA 2025 PANEL PROPOSALS \nLINK TO THE FORM FOR FISA 2025 PAPER PROPOSALS \nThe FISA Conference is organized in cooperation with the Ministry for Foreign Affairs of Finland\, the Ministry of Defence of Finland\, the Finnish Institute of International Affairs (FIIA) and the Foundation for Foreign Policy Research. \nMore information:  \nVille Sinkkonen\nChairperson\, The Finnish International Studies Association\nville.sinkkonen@fiia.fi\n+ 358 9 432 7783
URL:https://nordicisa.eu/event/call-for-papers-and-panels-for-fisa-2025-conference-extended-until-13-september/
ATTACH;FMTTYPE=image/jpeg:https://nordicisa.eu/wp-content/uploads/2024/08/slider-symposium-new.jpg
END:VEVENT
BEGIN:VEVENT
DTSTART;TZID=Europe/Helsinki:20240913T120000
DTEND;TZID=Europe/Helsinki:20240913T130000
DTSTAMP:20260419T231725
CREATED:20240819T143339Z
LAST-MODIFIED:20240829T154158Z
UID:578-1726228800-1726232400@nordicisa.eu
SUMMARY:FISA Conference 2025: Call for Papers & Panels
DESCRIPTION:The Finnish International Studies Association (FISA) organises its eighth triannual FISA Conference in cooperation with the Ministry for Foreign Affairs of Finland\, the Ministry of Defence of Finland\, the Finnish Institute of International Affairs (FIIA) and the Foundation for Foreign Policy Research. The conference provides a comprehensive\, timely\, and multidisciplinary overview of the state of International Relations research\, bringing together researchers and actors within the field of international politics. The conference will be held at the historic Scandic Valtionhotelli in Imatra\, on 24-25 January 2025. \nThe theme of the 2025 FISA Conference is Borders\, Old and New. \nRussia’s war of aggression in Ukraine has shown\, in a horrifying manner\, that borders can be contested also in the European continent. It has reminded us that borders are always fluid constructions\, whose legitimacy differs across actors. These developments have led to a heightened political and economic focus on geography\, and thus highlighted the importance of geopolitics and -economics for the stability and prosperity of regions. These issues are acutely important in the Eastern Finnish border region\, where the 2025 FISA Conference is held. The panels in the FISA conference accordingly examine borders\, old and new\, from a variety of theoretical\, analytical and methodological perspectives. \nThe conference keynotes will be delivered by professors Sonia Lucarelli (University of Bologna) and Ayşe Zarakol (University of Cambridge). \nPAPER AND PANEL PROPOSALS \nFISA invites papers and panels for workshop sessions. They can deal with various aspects of International Relations\, including both theoretical and empirical contributions. The papers do not need to be directly related to the overall theme of the conference\, but it is recommended. Topics of interest include\, but are not limited to the ones listed below: \nBorders; Alliances in international politics; The Arctic; Challenges and challengers to the rules-based international order; Environment in international politics; The European Union; Political violence\, extremism and terrorism; Theories of the international; The party politics of foreign and security policy; Foresight in international politics; Nordic cooperation; Language and meaning in international politics; Feminist approaches to world politics; Geoeconomics and the evolving international political economy; The global south in international politics; Strategic competition and great-power politics; International law and International Relations; Foreign policy; Development studies; Peace research; and Strategic studies. \nNB: THE PAPER AND PANEL PROPOSALS CAN BE SUBMITTED IN ENGLISH\, FINNISH OR SWEDISH. PLEASE USE THE SAME FORM FOR ALL THREE LANGUAGES \nThe call for papers and panels is open until 1 September 2024. \nLINK TO THE FORM FOR FISA 2025 PANEL PROPOSALS \nLINK TO THE FORM FOR FISA 2025 PAPER PROPOSALS \nNISA will cover the participation (including accommodation and meals\, train tickets and one hotel night in Helsinki if needed)\, of up to ten (10) researchers from other Nordic countries who will present a paper at the FISA conference. Travels to Finland will not be covered. Preference is given to young researchers. \nMore information: \nVille Sinkkonen\, Chairperson of FISA\, ville.sinkkonen@fiia.fi + 358 9 432 7783
URL:https://nordicisa.eu/event/fisa-conference-2025-call-for-papers-panels/
LOCATION:Scandic Valtionhotelli\, Torkkelinkatu 2\, Imatra\, 55100\, Finland
CATEGORIES:Conference
ATTACH;FMTTYPE=image/jpeg:https://nordicisa.eu/wp-content/uploads/2024/08/slider-conference-borders.jpg
END:VEVENT
END:VCALENDAR